BEGIN:VCALENDAR
VERSION:2.0
PRODID:-//Schule Höltystraße - ECPv6.15.20//NONSGML v1.0//EN
CALSCALE:GREGORIAN
METHOD:PUBLISH
X-ORIGINAL-URL:https://schule-hoeltystrasse.de
X-WR-CALDESC:Veranstaltungen für Schule Höltystraße
REFRESH-INTERVAL;VALUE=DURATION:PT1H
X-Robots-Tag:noindex
X-PUBLISHED-TTL:PT1H
BEGIN:VTIMEZONE
TZID:Europe/Berlin
BEGIN:DAYLIGHT
TZOFFSETFROM:+0100
TZOFFSETTO:+0200
TZNAME:CEST
DTSTART:20250330T010000
END:DAYLIGHT
BEGIN:STANDARD
TZOFFSETFROM:+0200
TZOFFSETTO:+0100
TZNAME:CET
DTSTART:20251026T010000
END:STANDARD
BEGIN:DAYLIGHT
TZOFFSETFROM:+0100
TZOFFSETTO:+0200
TZNAME:CEST
DTSTART:20260329T010000
END:DAYLIGHT
BEGIN:STANDARD
TZOFFSETFROM:+0200
TZOFFSETTO:+0100
TZNAME:CET
DTSTART:20261025T010000
END:STANDARD
BEGIN:DAYLIGHT
TZOFFSETFROM:+0100
TZOFFSETTO:+0200
TZNAME:CEST
DTSTART:20270328T010000
END:DAYLIGHT
BEGIN:STANDARD
TZOFFSETFROM:+0200
TZOFFSETTO:+0100
TZNAME:CET
DTSTART:20271031T010000
END:STANDARD
END:VTIMEZONE
BEGIN:VEVENT
DTSTART;TZID=Europe/Berlin:20260202T000000
DTEND;TZID=Europe/Berlin:20260202T000000
DTSTAMP:20260425T154954
CREATED:20250808T143706Z
LAST-MODIFIED:20250808T143706Z
UID:4457-1769990400-1769990400@schule-hoeltystrasse.de
SUMMARY:Ausgabe Zettel Fächerwahl Klassenstufe 10
DESCRIPTION:
URL:https://schule-hoeltystrasse.de/event/ausgabe-zettel-faecherwahl-klassenstufe-10/
END:VEVENT
BEGIN:VEVENT
DTSTART;TZID=Europe/Berlin:20260206T000000
DTEND;TZID=Europe/Berlin:20260206T000000
DTSTAMP:20260425T154954
CREATED:20250808T143706Z
LAST-MODIFIED:20250808T143706Z
UID:4458-1770336000-1770336000@schule-hoeltystrasse.de
SUMMARY:Ausgabe Halbjahresinformation/-zeugnisse
DESCRIPTION:
URL:https://schule-hoeltystrasse.de/event/ausgabe-halbjahresinformation-zeugnisse/
END:VEVENT
BEGIN:VEVENT
DTSTART;TZID=Europe/Berlin:20260222T000000
DTEND;TZID=Europe/Berlin:20260222T000000
DTSTAMP:20260425T154954
CREATED:20250808T143707Z
LAST-MODIFIED:20250808T143707Z
UID:4459-1771718400-1771718400@schule-hoeltystrasse.de
SUMMARY:9a/9b/10b Londonfahrt
DESCRIPTION:
URL:https://schule-hoeltystrasse.de/event/9a-9b-10b-londonfahrt/
END:VEVENT
BEGIN:VEVENT
DTSTART;TZID=Europe/Berlin:20260223T000000
DTEND;TZID=Europe/Berlin:20260223T000000
DTSTAMP:20260425T154954
CREATED:20250808T143708Z
LAST-MODIFIED:20250808T143708Z
UID:4460-1771804800-1771804800@schule-hoeltystrasse.de
SUMMARY:Bildungsberatung Wechselwunsch Gym Klassenstufe 5/6
DESCRIPTION:
URL:https://schule-hoeltystrasse.de/event/bildungsberatung-wechselwunsch-gym-klassenstufe-5-6/
END:VEVENT
BEGIN:VEVENT
DTSTART;TZID=Europe/Berlin:20260225T000000
DTEND;TZID=Europe/Berlin:20260225T000000
DTSTAMP:20260425T154954
CREATED:20250808T143708Z
LAST-MODIFIED:20250808T143708Z
UID:4461-1771977600-1771977600@schule-hoeltystrasse.de
SUMMARY:Kompentenztest Mathe/ Deutsch und/oder Englisch
DESCRIPTION:
URL:https://schule-hoeltystrasse.de/event/kompentenztest-mathe-deutsch-und-oder-englisch/
END:VEVENT
BEGIN:VEVENT
DTSTART;TZID=Europe/Berlin:20260227T000000
DTEND;TZID=Europe/Berlin:20260227T000000
DTSTAMP:20260425T154954
CREATED:20250808T143712Z
LAST-MODIFIED:20250808T143712Z
UID:4462-1772150400-1772150400@schule-hoeltystrasse.de
SUMMARY:Elternwunsch HS/RS Klassenstufe 6
DESCRIPTION:
URL:https://schule-hoeltystrasse.de/event/elternwunsch-hs-rs-klassenstufe-6/
END:VEVENT
BEGIN:VEVENT
DTSTART;TZID=Europe/Berlin:20260227T000000
DTEND;TZID=Europe/Berlin:20260227T000000
DTSTAMP:20260425T154954
CREATED:20250808T143712Z
LAST-MODIFIED:20250808T143712Z
UID:4463-1772150400-1772150400@schule-hoeltystrasse.de
SUMMARY:Abgabe Fächerwahl für zukünftige Klassenstufe 10
DESCRIPTION:
URL:https://schule-hoeltystrasse.de/event/abgabe-faecherwahl-fuer-zukuenftige-klassenstufe-10/
END:VEVENT
END:VCALENDAR